BEGIN:VCALENDAR
VERSION:2.0
PRODID:-//Munich Irish Network e.V. - ECPv6.15.20//NONSGML v1.0//EN
CALSCALE:GREGORIAN
METHOD:PUBLISH
X-ORIGINAL-URL:https://www.munichirishnetwork.de
X-WR-CALDESC:Veranstaltungen für Munich Irish Network e.V.
REFRESH-INTERVAL;VALUE=DURATION:PT1H
X-Robots-Tag:noindex
X-PUBLISHED-TTL:PT1H
BEGIN:VTIMEZONE
TZID:Europe/Berlin
BEGIN:DAYLIGHT
TZOFFSETFROM:+0100
TZOFFSETTO:+0200
TZNAME:CEST
DTSTART:20230326T010000
END:DAYLIGHT
BEGIN:STANDARD
TZOFFSETFROM:+0200
TZOFFSETTO:+0100
TZNAME:CET
DTSTART:20231029T010000
END:STANDARD
BEGIN:DAYLIGHT
TZOFFSETFROM:+0100
TZOFFSETTO:+0200
TZNAME:CEST
DTSTART:20240331T010000
END:DAYLIGHT
BEGIN:STANDARD
TZOFFSETFROM:+0200
TZOFFSETTO:+0100
TZNAME:CET
DTSTART:20241027T010000
END:STANDARD
BEGIN:DAYLIGHT
TZOFFSETFROM:+0100
TZOFFSETTO:+0200
TZNAME:CEST
DTSTART:20250330T010000
END:DAYLIGHT
BEGIN:STANDARD
TZOFFSETFROM:+0200
TZOFFSETTO:+0100
TZNAME:CET
DTSTART:20251026T010000
END:STANDARD
END:VTIMEZONE
BEGIN:VEVENT
DTSTART;TZID=Europe/Berlin:20240608T103000
DTEND;TZID=Europe/Berlin:20240608T210000
DTSTAMP:20260420T000459
CREATED:20240406T075150Z
LAST-MODIFIED:20240517T111514Z
UID:913-1717842600-1717880400@www.munichirishnetwork.de
SUMMARY:Irish Bayrisch am Rindermarkt 2024
DESCRIPTION:Der 866. Münchner Stadtgeburtstag präsentiert  „Irish Bayrisch am Rindermarkt“ \nAm Münchner Stadtgründungsfest wird der Rindermarkt zur „Grünen Insel“\, wo auf gut „Irish-Bairisch“ gefeiert wird\, denn Iren und Bayern haben viel gemeinsam: Sie lieben Musik und Tanz\, mögen gutes Bier und Geselligkeit. Auf dieser Basis hat das kleine Fest viele Fans gewonnen\, die dort Irish Folk Music genauso genießen wie bayerische Volksmusik\, Bier und Spezialitäten aus Irland und München. \nDas Programm:\nSa. 08.06.2024 \n10:30 Uhr – Schöffeldinger Musikanten\nTraditionell bayerische\, böhmische Blasmusik\, aber auch Stimmungsmusik \n12:30 Uhr – Großkonreuther Alphornbläser\nVerbindet Traditon und Modernes \n13:00 Uhr – Downtown Folk\nIrische Lieder und Geschichten\, sowie Modern Folk \n14:30 Uhr – Großkonreuther Alphornbläser \n15:00 Uhr – OM\nDie bayrische Band spielt Folk-Rock und vieles mehr \n16:30 Uhr – Großkonreuther Alphornbläser \n17:00 Uhr – Hot Asphalt\nDas Trio aus Wexford\, Irland mit Bekannten und Beliebten\, Musik von Alt bis Neu\, Folk bis Modern \n18:45 Uhr – Bartls Most\nBlues und andá Zeig. Weltmusik mit bayerischen Einfluss \n20:30 Uhr – The Led Farmers\nEnergiegeladenen und enthusiastischen Mix aus bekannten irischen Klassikern\, Folksongs sowie fantastischen traditionellen Melodien und Balladen \nProgramm 09.06.2024 >> \nteilen teilen teilen 
URL:https://www.munichirishnetwork.de/event/irish-bayrisch-am-rindermarkt-2024/
LOCATION:Rindermarkt München\, Rindermarkt\, München\, Bayern/Deutschland\, 80331\, Deutschland
ATTACH;FMTTYPE=image/jpeg:https://www.munichirishnetwork.de/wp-content/uploads/2024/04/Irish-Bayrisch-am-Rindermarkt-2024.jpg
END:VEVENT
END:VCALENDAR