BEGIN:VCALENDAR
VERSION:2.0
PRODID:-//Munich Irish Network e.V. - ECPv6.15.20//NONSGML v1.0//EN
CALSCALE:GREGORIAN
METHOD:PUBLISH
X-WR-CALNAME:Munich Irish Network e.V.
X-ORIGINAL-URL:https://www.munichirishnetwork.de
X-WR-CALDESC:Veranstaltungen für Munich Irish Network e.V.
REFRESH-INTERVAL;VALUE=DURATION:PT1H
X-Robots-Tag:noindex
X-PUBLISHED-TTL:PT1H
BEGIN:VTIMEZONE
TZID:Europe/Berlin
BEGIN:DAYLIGHT
TZOFFSETFROM:+0100
TZOFFSETTO:+0200
TZNAME:CEST
DTSTART:20230326T010000
END:DAYLIGHT
BEGIN:STANDARD
TZOFFSETFROM:+0200
TZOFFSETTO:+0100
TZNAME:CET
DTSTART:20231029T010000
END:STANDARD
BEGIN:DAYLIGHT
TZOFFSETFROM:+0100
TZOFFSETTO:+0200
TZNAME:CEST
DTSTART:20240331T010000
END:DAYLIGHT
BEGIN:STANDARD
TZOFFSETFROM:+0200
TZOFFSETTO:+0100
TZNAME:CET
DTSTART:20241027T010000
END:STANDARD
BEGIN:DAYLIGHT
TZOFFSETFROM:+0100
TZOFFSETTO:+0200
TZNAME:CEST
DTSTART:20250330T010000
END:DAYLIGHT
BEGIN:STANDARD
TZOFFSETFROM:+0200
TZOFFSETTO:+0100
TZNAME:CET
DTSTART:20251026T010000
END:STANDARD
END:VTIMEZONE
BEGIN:VEVENT
DTSTART;TZID=Europe/Berlin:20240316T110000
DTEND;TZID=Europe/Berlin:20240316T173000
DTSTAMP:20260420T005154
CREATED:20240125T070328Z
LAST-MODIFIED:20240125T093204Z
UID:863-1710586800-1710610200@www.munichirishnetwork.de
SUMMARY:St. Patrick´s Day - Pre-Parade Party 2024
DESCRIPTION:Das zweitägige „Food-Festival“ findet Samstags und Sonntags statt. Bereits zum dritten Mal verwandelt sich dabei am Samstag der Odeonsplatz zu einer riesigen Irish-Festival-Bühne. Das irisch geprägte Programm richtet sich hier bewusst an ein jüngeres Publikum und präsentiert international bekannte Bands. Als Moderator führt Steve Daly durchs St. Patrick´s Day Warm-Up. \nFür die kulinarischen Leckerbissen\, sprich die Spezialitäten aus Irland und dem Rest der Welt\, kümmern sich die Crews der verschiedenen Food-Trucks. Als Durstlöscher werden Biere aus Deutschland und Irland sowie andere Getränke angeboten. \nOdeonsplatz – Feldherrnhalle: \n\nMC:  John Dunne\n\n11.30 – 13.00 Augusta Ceili Band\n13.05 – 13.20 Hair of the Dog – Dancers\n13.30 – 14.30 The Hush \n14.35 – 14.50 Hair of the Dog – Dancers\n15.00 – 15.45 Ballinspittle Youth Ceili Band\n16.00 – 16.55 Celtic Invasion \n\nteilen teilen teilen 
URL:https://www.munichirishnetwork.de/event/st-patricks-day-pre-parade-party-2024/
LOCATION:Odeonsplatz München\, Odeonspl. 1\, München\, Bayern/Deutschland\, 80539\, Deutschland
ATTACH;FMTTYPE=image/jpeg:https://www.munichirishnetwork.de/wp-content/uploads/2024/01/Die-Pre-Parade-Party-2023.jpg
END:VEVENT
END:VCALENDAR