BEGIN:VCALENDAR
VERSION:2.0
PRODID:-//Munich Irish Network e.V. - ECPv6.15.20//NONSGML v1.0//EN
CALSCALE:GREGORIAN
METHOD:PUBLISH
X-ORIGINAL-URL:https://www.munichirishnetwork.de
X-WR-CALDESC:Veranstaltungen für Munich Irish Network e.V.
REFRESH-INTERVAL;VALUE=DURATION:PT1H
X-Robots-Tag:noindex
X-PUBLISHED-TTL:PT1H
BEGIN:VTIMEZONE
TZID:Europe/Berlin
BEGIN:DAYLIGHT
TZOFFSETFROM:+0100
TZOFFSETTO:+0200
TZNAME:CEST
DTSTART:20230326T010000
END:DAYLIGHT
BEGIN:STANDARD
TZOFFSETFROM:+0200
TZOFFSETTO:+0100
TZNAME:CET
DTSTART:20231029T010000
END:STANDARD
BEGIN:DAYLIGHT
TZOFFSETFROM:+0100
TZOFFSETTO:+0200
TZNAME:CEST
DTSTART:20240331T010000
END:DAYLIGHT
BEGIN:STANDARD
TZOFFSETFROM:+0200
TZOFFSETTO:+0100
TZNAME:CET
DTSTART:20241027T010000
END:STANDARD
BEGIN:DAYLIGHT
TZOFFSETFROM:+0100
TZOFFSETTO:+0200
TZNAME:CEST
DTSTART:20250330T010000
END:DAYLIGHT
BEGIN:STANDARD
TZOFFSETFROM:+0200
TZOFFSETTO:+0100
TZNAME:CET
DTSTART:20251026T010000
END:STANDARD
END:VTIMEZONE
BEGIN:VEVENT
DTSTART;TZID=Europe/Berlin:20240404T200000
DTEND;TZID=Europe/Berlin:20240404T213000
DTSTAMP:20260423T004727
CREATED:20240327T171855Z
LAST-MODIFIED:20240327T172347Z
UID:896-1712260800-1712266200@www.munichirishnetwork.de
SUMMARY:TRIFLES & ILE by Eugene O’Neill & Susan Glaspell - Teamtheater Tankstelle e.V.
DESCRIPTION:Entity Theatre präsentiert zwei Einakter in englischer Sprache: Eugene O’Neills Ile und Susan Glaspells Tripels.\n\nIn Ile sitzt ein Walfangschiff erfolglos auf dem Eis fest. Als die zwei Jahre\, für die sich die Besatzung verpflichtet hat\, zu Ende gehen\, verschärfen sich die Spannungen innerhalb der Mannschaft und der Familie des Kapitäns – und das Fass droht überzulaufen. \nIn Trifles wird ein Mann tot aufgefunden – erdrosselt im eigenen Bett. Während die Ermittler sich bemühen\, die Ursache zu finden\, liegt es an den Hausfrauen\, das Rätsel zu lösen und die wahre Tragödie zu enthüllen.  \n———————————————————- \nMit Alexander Brune\, Sophie Cretaine\, Hannah Davis\, Adriana Green\, Megan Nerlich\, Tai Steyn\nRegie: Estefania Vidal\nRegieassistenz: Megan Nerlich\nBühne: Sarah Ryan\nProduzentin: Katharina Drobinski\nTechnik: Andrew Edem \n———————————————————-\n\nTERMINE:\n04. – 07. April 2024 – Do – So – 20 Uhr \nTickets zu 17 €\, ermäßigt 12 € \nTickets >> \nteilen teilen teilen 
URL:https://www.munichirishnetwork.de/event/trifles-ile-by-eugene-oneill-susan-glaspell-teamtheater-tankstelle-e-v/
LOCATION:Teamtheater Tankstelle e.V.\, Am Einlaß 2a\, München\, Bayern/Deutschland\, 80469
ATTACH;FMTTYPE=image/jpeg:https://www.munichirishnetwork.de/wp-content/uploads/2024/03/IleTrifles_poster-.jpg
END:VEVENT
END:VCALENDAR